BEGIN:VCALENDAR
VERSION:2.0
PRODID:-//Contratero//ES
CALSCALE:GREGORIAN
METHOD:PUBLISH
BEGIN:VEVENT
UID:DEA-CON 02/2026@contratero.es
DTSTAMP:20260420T103323Z
DTSTART:20260304T235959
DTEND:20260305T005959
SUMMARY:Cierre: Suministro de licencias OpenEdge y la renovación d
DESCRIPTION:Suministro de licencias OpenEdge y la renovación del servicio de mantenimiento y soporte para Chiclana Natural\, S.A.\\n\\nOrganismo: Dirección de Chiclana Natural S.A.\\n\\nVer en Contratero: https://contratero.es/contracts/DEA-CON 02/2026
URL:https://contratero.es/contracts/DEA-CON 02/2026
STATUS:CONFIRMED
BEGIN:VALARM
TRIGGER:-P1D
ACTION:DISPLAY
DESCRIPTION:Recordatorio: Suministro de licencias OpenEd
END:VALARM
END:VEVENT
END:VCALENDAR